BEGIN:VCALENDAR
VERSION:2.0
PRODID:-//gitarrenfahrrad.de//Kalender Export//EN
CALSCALE:GREGORIAN
METHOD:PUBLISH
BEGIN:VEVENT
UID:1069@gitarrenfahrrad.de
DTSTAMP:20260420T102852Z
DTSTART;TZID=Europe/Berlin:20240509T170000
DTEND;TZID=Europe/Berlin:20240509T180000
SUMMARY:Steffen und das Gitarrenfahrrad – Mützingenta
DESCRIPTION:Weitere Infos auf gitarrenfahrrad.de
LOCATION:Alte Ziegelei 10\, Mützingen\,\, 29499
END:VEVENT
END:VCALENDAR
