BEGIN:VCALENDAR
VERSION:2.0
PRODID:-//gitarrenfahrrad.de//Kalender Export//EN
CALSCALE:GREGORIAN
METHOD:PUBLISH
BEGIN:VEVENT
UID:1568@gitarrenfahrrad.de
DTSTAMP:20260425T103330Z
DTSTART;TZID=Europe/Berlin:20240907T100000
DTEND;TZID=Europe/Berlin:20240907T113000
SUMMARY:Steffen und das Gitarrenfahrrad – RecyclingBörse! Bad Salzuflen / Schötmar
DESCRIPTION:Die RecyclingBörse! feiert in diesem Jahr 40 jähriges Bestehen. Zu diesem Anlass feiern wir unter anderem am 07. September im Cityladen Bad Salzuflen (Schötmar) Geburtstag. Und Steffen und das Gitarrenfahrrad… <a class="more-link" href="">Continue reading <span class="screen-reader-text">Untitled</span></a>
LOCATION:Otto-Hahn-Straße 97-99\, Schötmar\,\, NRW\, 32108\, Deutschland
END:VEVENT
END:VCALENDAR
