BEGIN:VCALENDAR
VERSION:2.0
PRODID:-//gitarrenfahrrad.de//Kalender Export//EN
CALSCALE:GREGORIAN
METHOD:PUBLISH
BEGIN:VEVENT
UID:2241@gitarrenfahrrad.de
DTSTAMP:20260420T171040Z
DTSTART;TZID=Europe/Berlin:20250718T180000
DTEND;TZID=Europe/Berlin:20250718T180000
SUMMARY:Steffen und das Gitarrenfahrrad – B.O.A. – Berzbuir Open Air
DESCRIPTION:Weitere Infos auf gitarrenfahrrad.de
LOCATION:Berzbuirer Straße 45a\, Berzbuir\,\, 52355
END:VEVENT
END:VCALENDAR
