BEGIN:VCALENDAR
VERSION:2.0
PRODID:-//gitarrenfahrrad.de//Kalender Export//EN
CALSCALE:GREGORIAN
METHOD:PUBLISH
BEGIN:VEVENT
UID:2373@gitarrenfahrrad.de
DTSTAMP:20260420T154631Z
DTSTART;TZID=Europe/Berlin:20250802T153000
DTEND;TZID=Europe/Berlin:20250802T153000
SUMMARY:Steffen und das Gitarrenfahrrad – Alt-Rosenthaler-Brimborium
DESCRIPTION:In diesem Jahr spielen wir beim Alt-Rosenthaler-Brimborium. Kommt schon Freitags und lauscht Steffen und das Gitarrenfahrrad bleibt bis Sonntag und erfreut euch und eure Tanzbeine mit vielen weiteren Konzerten. Und… <a class="more-link" href="">Continue reading <span class="screen-reader-text">Untitled</span></a>
LOCATION:Alt Rosenthal\, Vierlinden\,\, Brandenburg\, 15306
END:VEVENT
END:VCALENDAR
