BEGIN:VCALENDAR
VERSION:2.0
PRODID:-//gitarrenfahrrad.de//Kalender Export//EN
CALSCALE:GREGORIAN
METHOD:PUBLISH
BEGIN:VEVENT
UID:2385@gitarrenfahrrad.de
DTSTAMP:20260422T083516Z
DTSTART;TZID=Europe/Berlin:20250905T190000
DTEND;TZID=Europe/Berlin:20250905T190000
SUMMARY:Steffen und das Gitarrenfahrrad – Boffzer Bude
DESCRIPTION:Ein Ort\, in den ich mich auf Anhieb verliebt habe. Ob unterwegs zum Herzberg Festival\, oder zu welchem (süd)östlich gelegenen Ziel auch immer\, oder auch dann wenn ich einfach mal… <a class="more-link" href="">Continue reading <span class="screen-reader-text">Untitled</span></a>
LOCATION:In d. Farbe\, 37691 Boffzen\, Boffzen\,\, 37691
END:VEVENT
END:VCALENDAR
