BEGIN:VCALENDAR
VERSION:2.0
PRODID:-//gitarrenfahrrad.de//Kalender Export//EN
CALSCALE:GREGORIAN
METHOD:PUBLISH
BEGIN:VEVENT
UID:2406@gitarrenfahrrad.de
DTSTAMP:20260420T135118Z
DTSTART;TZID=Europe/Berlin:20260514T150000
DTEND;TZID=Europe/Berlin:20260514T150000
SUMMARY:Steffen und das Gitarrenfahrrad – Beesem 20
DESCRIPTION:Weitere Infos auf gitarrenfahrrad.de
LOCATION:Beesem 20\, Beesem/Luckau im Wendland\,\, 29487
END:VEVENT
END:VCALENDAR
