BEGIN:VCALENDAR
VERSION:2.0
PRODID:-//gitarrenfahrrad.de//Kalender Export//EN
CALSCALE:GREGORIAN
METHOD:PUBLISH
BEGIN:VEVENT
UID:2410@gitarrenfahrrad.de
DTSTAMP:20260420T134419Z
DTSTART;TZID=Europe/Berlin:20260518T160000
DTEND;TZID=Europe/Berlin:20260518T160000
SUMMARY:Steffen und das Gitarrenfahrrad – Beutower Mühle
DESCRIPTION:Weitere Infos auf gitarrenfahrrad.de
LOCATION:An der Beutower Mühle 7a\, Beutow\,\, 29439
END:VEVENT
END:VCALENDAR
