BEGIN:VCALENDAR
VERSION:2.0
PRODID:-//gitarrenfahrrad.de//Kalender Export//EN
CALSCALE:GREGORIAN
METHOD:PUBLISH
BEGIN:VEVENT
UID:2420@gitarrenfahrrad.de
DTSTAMP:20260420T134616Z
DTSTART;TZID=Europe/Berlin:20260521T113000
DTEND;TZID=Europe/Berlin:20260521T113000
SUMMARY:Steffen und das Gitarrenfahrrad – Thunpadel
DESCRIPTION:Weitere Infos auf gitarrenfahrrad.de
LOCATION:Dorfstraße 1\, Thunpadel\,\, 29481
END:VEVENT
END:VCALENDAR
