BEGIN:VCALENDAR
VERSION:2.0
PRODID:-//gitarrenfahrrad.de//Kalender Export//EN
CALSCALE:GREGORIAN
METHOD:PUBLISH
BEGIN:VEVENT
UID:2487@gitarrenfahrrad.de
DTSTAMP:20260420T135118Z
DTSTART;TZID=Europe/Berlin:20260420T200000
DTEND;TZID=Europe/Berlin:20260420T200000
SUMMARY:Steffen und das Gitarrenfahrrad – Café Haag
DESCRIPTION:Weitere Infos auf gitarrenfahrrad.de
LOCATION:Vor dem Haagtor 1\, Tübingen\,\, 72070
END:VEVENT
END:VCALENDAR
